BEGIN:VCALENDAR
VERSION:2.0
PRODID:-//saintalphonsusph.org//eCatholic//EN
X-WR-TIMEZONE:LocalTZ
BEGIN:VTIMEZONE
TZID:LocalTZ
X-LIC-LOCATION:LocalTZ
BEGIN:DAYLIGHT
TZOFFSETFROM:-0600
TZOFFSETTO:-0500
TZNAME:LocalTZ
DTSTART:19700308T020000
RRULE:FREQ=YEARLY;BYMONTH=3;BYDAY=2SU
END:DAYLIGHT
BEGIN:STANDARD
TZOFFSETFROM:-0500
TZOFFSETTO:-0600
TZNAME:LocalTZ
DTSTART:19701101T020000
RRULE:FREQ=YEARLY;BYMONTH=11;BYDAY=1SU
END:STANDARD
END:VTIMEZONE
BEGIN:VEVENT
UID:464856@saintalphonsusph.org
DTSTAMP:20260420T064823Z
DTSTART:20260502T100000
DTEND:20260502T120000
RRULE:FREQ=MONTHLY;BYDAY=SA;BYSETPOS=1
SUMMARY:Food Pantry
DESCRIPTION:1st and 3rd Saturdays of the month.You must register and the p
 antry is open to residents of Prospect Heights\, Wheeling and Mount Prospe
 ct. Please provide 2 forms of I.D. to register\; 1 of which must be a phot
 o I.D. and the other must be a current utility or phone bill.
END:VEVENT
BEGIN:VEVENT
UID:464857@saintalphonsusph.org
DTSTAMP:20260420T064823Z
DTSTART:20260516T100000
DTEND:20260516T120000
RRULE:FREQ=MONTHLY;BYDAY=SA;BYSETPOS=3
EXDATE:20170819T100000,20171216T100000,20181215T100000
SUMMARY:Food Pantry
DESCRIPTION:1st and 3rd Saturdays of the month. You must register and the 
 pantry is open to residents of Prospect Heights\, Wheeling and Mount Prosp
 ect. Please provide 2 forms of I.D. to register\; One of which must be a p
 hoto I.D. and the other must be a current utility bill or lease.
END:VEVENT
BEGIN:VEVENT
UID:1386530@saintalphonsusph.org
DTSTAMP:20260420T064823Z
DTSTART:20260421T180000
DTEND:20260421T190000
RRULE:FREQ=WEEKLY;BYDAY=TU
EXDATE:20200609T180000,20200929T180000,20201006T180000,20201208T180000,202
 10223T180000,20210302T180000,20210309T180000,20210316T180000,20210323T1800
 00,20210330T180000,20211102T180000,20211130T180000,20211130T180000,2021120
 7T180000,20211214T180000,20211221T180000,20220308T180000,20220412T180000,2
 0221101T180000,20221220T180000,20230228T180000,20230328T180000,20230704T18
 0000
SUMMARY:Adoration - In Church
DESCRIPTION:Adoration is In-Church - not live-streamed
END:VEVENT
BEGIN:VEVENT
UID:1389068@saintalphonsusph.org
DTSTAMP:20260420T064823Z
DTSTART:20260420T081500
DTEND:20260420T091500
RRULE:FREQ=WEEKLY;BYDAY=MO
EXDATE:20200928T081500,20201005T081500,20211101T081500,20230904T081500,202
 40527T081500
SUMMARY:Daily Mass
DESCRIPTION:DAILY MASS: Monday - Thursday at 8:15 am
END:VEVENT
BEGIN:VEVENT
UID:1389071@saintalphonsusph.org
DTSTAMP:20260420T064823Z
DTSTART:20260422T081500
DTEND:20260422T090000
RRULE:FREQ=WEEKLY;BYDAY=WE
EXDATE:20200930T081500,20201007T081500,20210217T081500,20210331T081500,202
 20302T081500,20220629T081500,20221102T081500,20230222T081500,20231101T0815
 00,20240214T081500
SUMMARY:Daily Mass
DESCRIPTION:Monday-Thursday at 8:15am
END:VEVENT
BEGIN:VEVENT
UID:1389076@saintalphonsusph.org
DTSTAMP:20260420T064823Z
DTSTART:20260423T081500
DTEND:20260423T091500
RRULE:FREQ=WEEKLY;BYDAY=TH
EXDATE:20201001T081500,20201008T081500,20201126T081500,20210401T081500,202
 11125T081500,20220414T081500,20220630T081500,20221208T081500,20230406T0815
 00,20231102T081500,20231123T081500,20240606T081500,20240613T081500,2024062
 0T081500,20240627T081500,20240704T081500,20240711T081500,20240718T081500,2
 0240725T081500,20240801T081500,20240808T081500,20240815T081500,20240822T08
 1500
SUMMARY:Daily Mass 8:15 am - 9:15 am
DESCRIPTION:Monday - Thursday: 8:15am
END:VEVENT
BEGIN:VEVENT
UID:1386621@saintalphonsusph.org
DTSTAMP:20260420T064823Z
DTSTART:20260426T110000
DTEND:20260426T120000
RRULE:FREQ=WEEKLY;BYDAY=SU
EXDATE:20200628T110000,20200927T110000,20210404T110000,20221127T110000,202
 21204T110000,20221211T110000,20221218T110000,20221225T110000,20230101T1100
 00,20230115T110000,20230402T110000,20230409T110000,20231112T110000
SUMMARY:Live-streamed Sunday Mass at 11:00 am
DESCRIPTION:We will continue to Live-Stream Sunday Masses at 11:00 am on F
 acebook. Click on title of this event for our Facebook Live page.
END:VEVENT
BEGIN:VEVENT
UID:1402289@saintalphonsusph.org
DTSTAMP:20260420T064823Z
DTSTART:20260425T170000
DTEND:20260425T180000
RRULE:FREQ=WEEKLY;BYDAY=SA
EXDATE:20200926T170000,20201003T170000,20210403T170000,20211120T170000,202
 11127T170000,20211204T170000,20211211T170000,20211218T170000,20211225T1700
 00,20220409T170000,20220416T170000,20221126T170000,20221203T170000,2022121
 0T170000,20221217T170000,20221224T170000,20221231T170000,20230401T170000,2
 0230408T170000,20230930T170000,20240803T170000
SUMMARY:Saturday Evening Mass: Anticipation Mass
END:VEVENT
BEGIN:VEVENT
UID:1402297@saintalphonsusph.org
DTSTAMP:20260420T064823Z
DTSTART:20260426T083000
DTEND:20260426T093000
RRULE:FREQ=WEEKLY;BYDAY=SU
EXDATE:20200927T083000,20201004T083000,20201129T083000,20210404T083000,202
 11121T083000,20211205T083000,20211212T083000,20211219T083000,20220410T0830
 00,20220417T083000,20221127T083000,20221204T083000,20221211T083000,2022121
 8T083000,20221225T083000,20230101T083000,20230115T083000,20230402T083000,2
 0230409T083000
SUMMARY:Sunday Masses - Sunday at 8:30 am
END:VEVENT
BEGIN:VEVENT
UID:1411367@saintalphonsusph.org
DTSTAMP:20260420T064823Z
DTSTART:20260424T081500
DTEND:20260424T091500
RRULE:FREQ=WEEKLY;BYDAY=FR
EXDATE:20200925T081500,20201002T081500,20201009T081500,20201225T081500,202
 10101T081500,20210402T081500,20211119T081500,20211224T081500,20220415T0815
 00,20221111T081500,20230407T081500,20240607T081500,20240830T081500
SUMMARY:Daily Mass: Friday Mornings
END:VEVENT
BEGIN:VEVENT
UID:1640020@saintalphonsusph.org
DTSTAMP:20260420T064823Z
DTSTART:20260510T180000
DTEND:20260510T190000
RRULE:FREQ=MONTHLY;BYDAY=SU;BYSETPOS=2
EXDATE:20221113T180000
SUMMARY:Knights of Columbus\, Council 17238 - monthly MEETING
DESCRIPTION:2nd Sunday of the month at 6:00 pm - meeting Rooms at Church -
  Questions: Contact Grand Knight Robert McLoughlin at 847-370-0302\, email
  is: kcbobmcloughlin@hotmail.com
END:VEVENT
BEGIN:VEVENT
UID:1952019@saintalphonsusph.org
DTSTAMP:20260420T064823Z
DTSTART:20260502T081500
DTEND:20260502T091500
RRULE:FREQ=MONTHLY;BYDAY=SA;BYSETPOS=1
EXDATE:20230805T081500
SUMMARY:HEALING MASS - 1st Saturday of the Month
DESCRIPTION:Join us at St. Alphonsus Liguori Church for the Sacraments of 
 Reconciliation & Anointing the FIRST Saturday of the Month at 8:15am. The 
 Rosary will be led by the American Heritage Girls following  Mass.
END:VEVENT
BEGIN:VEVENT
UID:1952027@saintalphonsusph.org
DTSTAMP:20260420T064823Z
DTSTART:20260502T083000
DTEND:20260502T093000
RRULE:FREQ=MONTHLY;BYDAY=SA;BYSETPOS=1
EXDATE:20230805T083000
SUMMARY:Reconciliation - 1st Saturday of the month
DESCRIPTION:Join us the 1st Saturday of the month at the Healing & Anointi
 ng Mass with extra priests to hear confessions.
END:VEVENT
BEGIN:VEVENT
UID:1386607@saintalphonsusph.org
DTSTAMP:20260420T064823Z
DTSTART;VALUE=DATE:20260420
DTEND;VALUE=DATE:20260421
RRULE:FREQ=WEEKLY;BYDAY=MO
SUMMARY:Reconciliation Opportunities
DESCRIPTION:Saturdays from 4:00pm-4:45pm. Or join us the first Saturday of
  the month at the Healing and Anointing Mass at 8:15am.
END:VEVENT
BEGIN:VEVENT
UID:2023021@saintalphonsusph.org
DTSTAMP:20260420T064823Z
DTSTART:20260505T090000
DTEND:20260505T100000
RRULE:FREQ=MONTHLY;BYDAY=TU;BYSETPOS=1
SUMMARY:Birthday Celebrations
DESCRIPTION:Celebrate your birthday month with a blessing\, cake\, and com
 munity - follows daily Mass on the FIRST TUESDAY of each month.
END:VEVENT
END:VCALENDAR
